BEGIN:VCALENDAR
VERSION:2.0
PRODID:-//Squarespace Inc/Squarespace 6//v6//EN
BEGIN:VEVENT
UID:52d64ebbe4b0485536aa3517@squarespace.com
DTSTAMP:20140115T092018Z
DTSTART:20140117T223000Z
DTEND:20140118T132900Z
SUMMARY:VENUE BOOKED
END:VEVENT
END:VCALENDAR
