BEGIN:VCALENDAR
VERSION:2.0
PRODID:-//Squarespace Inc/Squarespace 6//v6//EN
BEGIN:VEVENT
UID:53e2145ce4b0b4aa2a6a5d4d@squarespace.com
DTSTAMP:20141016T104025Z
DTSTART:20141107T223000Z
DTEND:20141108T132900Z
SUMMARY:VENUE BOOKED
END:VEVENT
END:VCALENDAR
