BEGIN:VCALENDAR
VERSION:2.0
PRODID:-//Squarespace Inc/Squarespace 6//v6//EN
BEGIN:VEVENT
UID:538c5b32e4b0943d092ec780@squarespace.com
DTSTAMP:20141016T103823Z
DTSTART:20141026T033000Z
DTEND:20141026T083000Z
SUMMARY:VENUE BOOKED
END:VEVENT
END:VCALENDAR
