BEGIN:VCALENDAR
VERSION:2.0
PRODID:-//Squarespace Inc/Squarespace 6//v6//EN
BEGIN:VEVENT
UID:538c5b9ce4b021ab8ae236fd@squarespace.com
DTSTAMP:20140602T111206Z
DTSTART:20141201T223000Z
DTEND:20141209T132900Z
SUMMARY:VENUE BOOKED
END:VEVENT
END:VCALENDAR
