BEGIN:VCALENDAR
VERSION:2.0
PRODID:-//Squarespace Inc/Squarespace 6//v6//EN
BEGIN:VEVENT
UID:52d64fcbe4b060d6f0a0e2ba@squarespace.com
DTSTAMP:20140115T092056Z
DTSTART:20141230T223000Z
DTEND:20150101T132900Z
SUMMARY:VENUE BOOKED
END:VEVENT
END:VCALENDAR
