BEGIN:VCALENDAR
VERSION:2.0
PRODID:-//Squarespace Inc/Squarespace 6//v6//EN
BEGIN:VEVENT
UID:538c5c0be4b0c9bb1895b554@squarespace.com
DTSTAMP:20140602T111314Z
DTSTART:20141206T003000Z
DTEND:20141206T132900Z
SUMMARY:FESTA
END:VEVENT
END:VCALENDAR
