BEGIN:VCALENDAR
VERSION:2.0
PRODID:-//Squarespace Inc/Squarespace 6//v6//EN
BEGIN:VEVENT
UID:52d64d19e4b038da243affdd@squarespace.com
DTSTAMP:20140115T092028Z
DTSTART:20140131T223000Z
DTEND:20140201T132900Z
SUMMARY:VENUE BOOKED
END:VEVENT
END:VCALENDAR
