BEGIN:VCALENDAR
VERSION:2.0
PRODID:-//Squarespace Inc/Squarespace 6//v6//EN
BEGIN:VEVENT
UID:52e72448e4b0e9f8af1e3bef@squarespace.com
DTSTAMP:20140128T033131Z
DTSTART:20140321T223000Z
DTEND:20140322T132900Z
SUMMARY:VENUE BOOKED
END:VEVENT
END:VCALENDAR
