BEGIN:VCALENDAR
VERSION:2.0
PRODID:-//Squarespace Inc/Squarespace 6//v6//EN
BEGIN:VEVENT
UID:52e724cbe4b001f05e5e5531@squarespace.com
DTSTAMP:20140128T033259Z
DTSTART:20140416T233000Z
DTEND:20140417T142900Z
SUMMARY:VENUE BOOKED
END:VEVENT
END:VCALENDAR
