BEGIN:VCALENDAR
VERSION:2.0
PRODID:-//Squarespace Inc/Squarespace 6//v6//EN
BEGIN:VEVENT
UID:52e72505e4b001f05e5e55a1@squarespace.com
DTSTAMP:20140128T033353Z
DTSTART:20140417T233000Z
DTEND:20140418T022900Z
SUMMARY:VENUE CLOSED
END:VEVENT
END:VCALENDAR
