BEGIN:VCALENDAR
VERSION:2.0
PRODID:-//Squarespace Inc/Squarespace 6//v6//EN
BEGIN:VEVENT
UID:52e7253fe4b0610c812c8b28@squarespace.com
DTSTAMP:20140128T033452Z
DTSTART:20140419T233000Z
DTEND:20140420T022900Z
SUMMARY:VENUE BOOKED
END:VEVENT
END:VCALENDAR
