BEGIN:VCALENDAR
VERSION:2.0
PRODID:-//Squarespace Inc/Squarespace 6//v6//EN
BEGIN:VEVENT
UID:52d64f3ce4b060d6f0a0e269@squarespace.com
DTSTAMP:20140115T092037Z
DTSTART:20140425T233000Z
DTEND:20140426T142900Z
SUMMARY:VENUE BOOKED
END:VEVENT
END:VCALENDAR
