BEGIN:VCALENDAR
VERSION:2.0
PRODID:-//Squarespace Inc/Squarespace 6//v6//EN
BEGIN:VEVENT
UID:52e725b3e4b0911b86d99eb7@squarespace.com
DTSTAMP:20140128T033639Z
DTSTART:20140510T233000Z
DTEND:20140511T142900Z
SUMMARY:VENUE BOOKED
END:VEVENT
END:VCALENDAR
