BEGIN:VCALENDAR
VERSION:2.0
PRODID:-//Squarespace Inc/Squarespace 6//v6//EN
BEGIN:VEVENT
UID:538b1c07e4b0f23695e1a1bc@squarespace.com
DTSTAMP:20140602T105545Z
DTSTART:20140614T233000Z
DTEND:20140615T142900Z
SUMMARY:VENUE BOOKED
END:VEVENT
END:VCALENDAR
