BEGIN:VCALENDAR
VERSION:2.0
PRODID:-//Squarespace Inc/Squarespace 6//v6//EN
BEGIN:VEVENT
UID:538c584ee4b0f42d803c1ed0@squarespace.com
DTSTAMP:20140602T105704Z
DTSTART:20140620T233000Z
DTEND:20140621T142900Z
SUMMARY:VENUE BOOKED
END:VEVENT
END:VCALENDAR
