BEGIN:VCALENDAR
VERSION:2.0
PRODID:-//Squarespace Inc/Squarespace 6//v6//EN
BEGIN:VEVENT
UID:538b1dafe4b014e61acfcd4a@squarespace.com
DTSTAMP:20140601T123947Z
DTSTART:20140628T110000Z
DTEND:20140628T130000Z
SUMMARY:VENUE BOOKED
END:VEVENT
END:VCALENDAR
