BEGIN:VCALENDAR
VERSION:2.0
PRODID:-//Squarespace Inc/Squarespace 6//v6//EN
BEGIN:VEVENT
UID:52e72606e4b0ca4188f61c88@squarespace.com
DTSTAMP:20140601T122601Z
DTSTART:20140718T233000Z
DTEND:20140719T142900Z
SUMMARY:VENUE BOOKED
END:VEVENT
END:VCALENDAR
