BEGIN:VCALENDAR
VERSION:2.0
PRODID:-//Squarespace Inc/Squarespace 6//v6//EN
BEGIN:VEVENT
UID:538c5933e4b090f9ef32d3f8@squarespace.com
DTSTAMP:20140603T061055Z
DTSTART:20140725T233000Z
DTEND:20140726T142900Z
SUMMARY:TENTATIVE BOOKING
END:VEVENT
END:VCALENDAR
