BEGIN:VCALENDAR
VERSION:2.0
PRODID:-//Squarespace Inc/Squarespace 6//v6//EN
BEGIN:VEVENT
UID:538c58b8e4b0e8744725533f@squarespace.com
DTSTAMP:20140602T110222Z
DTSTART:20140809T073000Z
DTEND:20140809T142900Z
SUMMARY:VENUE BOOKED
END:VEVENT
END:VCALENDAR
