BEGIN:VCALENDAR
VERSION:2.0
PRODID:-//Squarespace Inc/Squarespace 6//v6//EN
BEGIN:VEVENT
UID:538c5a5ce4b06f8972073080@squarespace.com
DTSTAMP:20140806T115015Z
DTSTART:20140919T233000Z
DTEND:20140920T142900Z
SUMMARY:VENUE BOOKED
END:VEVENT
END:VCALENDAR
