BEGIN:VCALENDAR
VERSION:2.0
PRODID:-//Squarespace Inc/Squarespace 6//v6//EN
BEGIN:VEVENT
UID:53e21692e4b0b82de9ce4e78@squarespace.com
DTSTAMP:20140806T115719Z
DTSTART:20140926T233000Z
DTEND:20140927T142900Z
SUMMARY:VENUE BOOKED
END:VEVENT
END:VCALENDAR
