BEGIN:VCALENDAR
VERSION:2.0
PRODID:-//Squarespace Inc/Squarespace 6//v6//EN
BEGIN:VEVENT
UID:538c5aa1e4b08a7d4a554464@squarespace.com
DTSTAMP:20140806T115728Z
DTSTART:20140927T233000Z
DTEND:20140928T083000Z
SUMMARY:VENUE BOOKED
END:VEVENT
END:VCALENDAR
