BEGIN:VCALENDAR
VERSION:2.0
PRODID:-//Squarespace Inc/Squarespace 6//v6//EN
BEGIN:VEVENT
UID:53e21536e4b09e0e511d59c6@squarespace.com
DTSTAMP:20140806T114542Z
DTSTART:20140905T233000Z
DTEND:20140906T142900Z
SUMMARY:VENUE BOOKED
END:VEVENT
END:VCALENDAR
