BEGIN:VCALENDAR
VERSION:2.0
PRODID:-//Squarespace Inc/Squarespace 6//v6//EN
BEGIN:VEVENT
UID:52e72646e4b0bd8abae0dc4a@squarespace.com
DTSTAMP:20140602T110449Z
DTSTART:20140906T233000Z
DTEND:20140907T142900Z
SUMMARY:VENUE BOOKED
END:VEVENT
END:VCALENDAR
