BEGIN:VCALENDAR
VERSION:2.0
PRODID:-//Squarespace Inc/Squarespace 6//v6//EN
BEGIN:VEVENT
UID:543f9f67e4b09468ab229c83@squarespace.com
DTSTAMP:20141016T103555Z
DTSTART:20150118T023000Z
DTEND:20150118T033000Z
SUMMARY:VENUE BOOKED
END:VEVENT
END:VCALENDAR
