BEGIN:VCALENDAR
VERSION:2.0
PRODID:-//Squarespace Inc/Squarespace 6//v6//EN
BEGIN:VEVENT
UID:574fb9f1044262fd9c276522@squarespace.com
DTSTAMP:20160602T044632Z
DTSTART:20160604T073000Z
DTEND:20160604T142900Z
SUMMARY:VENUE BOOKED
END:VEVENT
END:VCALENDAR
