BEGIN:VCALENDAR
VERSION:2.0
PRODID:-//Squarespace Inc/Squarespace 6//v6//EN
BEGIN:VEVENT
UID:58e9dbf1a5790a5591d952b8@squarespace.com
DTSTAMP:20170927T114912Z
DTSTART:20171020T223000Z
DTEND:20171021T132900Z
SUMMARY:VENUE BOOKED
END:VEVENT
END:VCALENDAR
