BEGIN:VCALENDAR
VERSION:2.0
PRODID:-//Squarespace Inc/Squarespace 6//v6//EN
BEGIN:VEVENT
UID:58e9db1fbebafb323248b696@squarespace.com
DTSTAMP:20170409T065850Z
DTSTART:20171005T203000Z
DTEND:20171006T053000Z
SUMMARY:VENUE BOOKED
END:VEVENT
END:VCALENDAR
