BEGIN:VCALENDAR
VERSION:2.0
PRODID:-//Squarespace Inc/Squarespace 6//v6//EN
BEGIN:VEVENT
UID:58e9dbb53e00be49e5bb7753@squarespace.com
DTSTAMP:20170409T065931Z
DTSTART:20171006T203000Z
DTEND:20171007T132900Z
SUMMARY:VENUE BOOKED
END:VEVENT
END:VCALENDAR
