BEGIN:VCALENDAR
VERSION:2.0
PRODID:-//Squarespace Inc/Squarespace 6//v6//EN
BEGIN:VEVENT
UID:58e9dc55893fc0148f9f30af@squarespace.com
DTSTAMP:20170409T070228Z
DTSTART:20171122T193000Z
DTEND:20171126T132900Z
SUMMARY:VENUE BOOKED - FESTA 2017
END:VEVENT
END:VCALENDAR
