BEGIN:VCALENDAR
VERSION:2.0
PRODID:-//Squarespace Inc/Squarespace 6//v6//EN
BEGIN:VEVENT
UID:58e9dd66d2b8576a9d5c410a@squarespace.com
DTSTAMP:20170409T070647Z
DTSTART:20171230T223000Z
DTEND:20180101T132900Z
SUMMARY:VENUE BOOKED
END:VEVENT
END:VCALENDAR
