BEGIN:VCALENDAR
VERSION:2.0
PRODID:-//Squarespace Inc/Squarespace 6//v6//EN
BEGIN:VEVENT
UID:58e9d0c7bebafb323246e6eb@squarespace.com
DTSTAMP:20170409T061526Z
DTSTART:20170413T083000Z
DTEND:20170413T142900Z
SUMMARY:VENUE BOOKED
END:VEVENT
END:VCALENDAR
