BEGIN:VCALENDAR
VERSION:2.0
PRODID:-//Squarespace Inc/Squarespace 6//v6//EN
BEGIN:VEVENT
UID:58e9d678f5e231a18a741c14@squarespace.com
DTSTAMP:20170409T064308Z
DTSTART:20170519T233000Z
DTEND:20170520T142900Z
SUMMARY:VENUE BOOKED
END:VEVENT
END:VCALENDAR
