BEGIN:VCALENDAR
VERSION:2.0
PRODID:-//Squarespace Inc/Squarespace 6//v6//EN
BEGIN:VEVENT
UID:58e9d5afe4fcb565f1b38e49@squarespace.com
DTSTAMP:20170409T063403Z
DTSTART:20170421T233000Z
DTEND:20170422T142900Z
SUMMARY:VENUE BOOKED
END:VEVENT
END:VCALENDAR
