BEGIN:VCALENDAR
VERSION:2.0
PRODID:-//Squarespace Inc/Squarespace 6//v6//EN
BEGIN:VEVENT
UID:58e9d91ef5e231a18a748f0f@squarespace.com
DTSTAMP:20170409T064813Z
DTSTART:20170422T233000Z
DTEND:20170423T142900Z
SUMMARY:VENUE BOOKED
END:VEVENT
END:VCALENDAR
