BEGIN:VCALENDAR
VERSION:2.0
PRODID:-//Squarespace Inc/Squarespace 6//v6//EN
BEGIN:VEVENT
UID:58e9d354e6f2e1dfce0cc2e6@squarespace.com
DTSTAMP:20170409T062347Z
DTSTART:20170427T233000Z
DTEND:20170428T022900Z
SUMMARY:VENUE BOOKED
END:VEVENT
END:VCALENDAR
