BEGIN:VCALENDAR
VERSION:2.0
PRODID:-//Squarespace Inc/Squarespace 6//v6//EN
BEGIN:VEVENT
UID:58e9d5883e00be49e5ba65f3@squarespace.com
DTSTAMP:20170409T063300Z
DTSTART:20170408T233000Z
DTEND:20170409T142900Z
SUMMARY:VENUE BOOKED
END:VEVENT
END:VCALENDAR
