BEGIN:VCALENDAR
VERSION:2.0
PRODID:-//Squarespace Inc/Squarespace 6//v6//EN
BEGIN:VEVENT
UID:58e9d60b1e5b6c098b30886f@squarespace.com
DTSTAMP:20170409T063535Z
DTSTART:20170512T233000Z
DTEND:20170513T142900Z
SUMMARY:VENUE BOOKED - TBC
END:VEVENT
END:VCALENDAR
