BEGIN:VCALENDAR
VERSION:2.0
PRODID:-//Squarespace Inc/Squarespace 6//v6//EN
BEGIN:VEVENT
UID:58e9d645cd0f68d5d52a17f5@squarespace.com
DTSTAMP:20170409T063624Z
DTSTART:20170513T233000Z
DTEND:20170514T142900Z
SUMMARY:VENUE BOOKED
END:VEVENT
END:VCALENDAR
