BEGIN:VCALENDAR
VERSION:2.0
PRODID:-//Squarespace Inc/Squarespace 6//v6//EN
BEGIN:VEVENT
UID:58e9d8b52994ca304a9a4c16@squarespace.com
DTSTAMP:20170409T064637Z
DTSTART:20170527T083000Z
DTEND:20170527T142900Z
SUMMARY:VENUE BOOKED - TBC
END:VEVENT
END:VCALENDAR
