BEGIN:VCALENDAR
VERSION:2.0
PRODID:-//Squarespace Inc/Squarespace 6//v6//EN
BEGIN:VEVENT
UID:58e9d9e320099ea6ebd602c8@squarespace.com
DTSTAMP:20170409T065134Z
DTSTART:20170610T233000Z
DTEND:20170611T142900Z
SUMMARY:VENUE BOOKED
END:VEVENT
END:VCALENDAR
