BEGIN:VCALENDAR
VERSION:2.0
PRODID:-//Squarespace Inc/Squarespace 6//v6//EN
BEGIN:VEVENT
UID:58e9da05f5e231a18a74b68a@squarespace.com
DTSTAMP:20170409T065210Z
DTSTART:20170616T233000Z
DTEND:20170617T142900Z
SUMMARY:VENUE BOOKED
END:VEVENT
END:VCALENDAR
