BEGIN:VCALENDAR
VERSION:2.0
PRODID:-//Squarespace Inc/Squarespace 6//v6//EN
BEGIN:VEVENT
UID:58e9da28f7e0ab8357900139@squarespace.com
DTSTAMP:20170409T065254Z
DTSTART:20170624T083000Z
DTEND:20170624T142900Z
SUMMARY:VENUE BOOKED - TBC
END:VEVENT
END:VCALENDAR
