BEGIN:VCALENDAR
VERSION:2.0
PRODID:-//Squarespace Inc/Squarespace 6//v6//EN
BEGIN:VEVENT
UID:58e9d9b4579fb3bebae01bb7@squarespace.com
DTSTAMP:20170409T065100Z
DTSTART:20170714T233000Z
DTEND:20170715T142900Z
SUMMARY:VENUE BOOKED
END:VEVENT
END:VCALENDAR
