BEGIN:VCALENDAR
VERSION:2.0
PRODID:-//Squarespace Inc/Squarespace 6//v6//EN
BEGIN:VEVENT
UID:58e9da60e3df28b2c24b7e4a@squarespace.com
DTSTAMP:20170409T065349Z
DTSTART:20170728T233000Z
DTEND:20170729T142900Z
SUMMARY:VENUE BOOKED - TBC
END:VEVENT
END:VCALENDAR
