BEGIN:VCALENDAR
VERSION:2.0
PRODID:-//Squarespace Inc/Squarespace 6//v6//EN
BEGIN:VEVENT
UID:58e9da91e3df28b2c24b8761@squarespace.com
DTSTAMP:20170409T065432Z
DTSTART:20170818T233000Z
DTEND:20170819T142900Z
SUMMARY:VENUE BOOKED - TBC
END:VEVENT
END:VCALENDAR
