BEGIN:VCALENDAR
VERSION:2.0
PRODID:-//Squarespace Inc/Squarespace 6//v6//EN
BEGIN:VEVENT
UID:58e9dabc29687f9340f87128@squarespace.com
DTSTAMP:20170409T065512Z
DTSTART:20170915T233000Z
DTEND:20170916T142900Z
SUMMARY:VENUE BOOKED - TBC
END:VEVENT
END:VCALENDAR
