BEGIN:VCALENDAR
VERSION:2.0
PRODID:-//Squarespace Inc/Squarespace 6//v6//EN
BEGIN:VEVENT
UID:58e9dae0579fb3bebae053f0@squarespace.com
DTSTAMP:20170409T065604Z
DTSTART:20170929T233000Z
DTEND:20171001T132900Z
SUMMARY:VENUE BOOKED
END:VEVENT
END:VCALENDAR
