BEGIN:VCALENDAR
VERSION:2.0
PRODID:-//Squarespace Inc/Squarespace 6//v6//EN
BEGIN:VEVENT
UID:5b7f9ec1575d1f9d10ba258b@squarespace.com
DTSTAMP:20180824T060025Z
DTSTART:20180908T090000Z
DTEND:20180908T142900Z
SUMMARY:VENUE BOOKED - MISS CROATIA BALL
END:VEVENT
END:VCALENDAR
