BEGIN:VCALENDAR
VERSION:2.0
PRODID:-//Squarespace Inc/Squarespace 6//v6//EN
BEGIN:VEVENT
UID:5b2dfc591ae6cf364b964ce3@squarespace.com
DTSTAMP:20180623T075324Z
DTSTART:20181026T223000Z
DTEND:20181027T132900Z
SUMMARY:VENUE BOOKED - CONCERT
END:VEVENT
END:VCALENDAR
